{ "currentVersion": 11.5, "cimVersion": "3.5.0", "serviceDescription": "This cached tiled basemap is projected in NAD_1983_Contiguous_USA_Albers (WKID: 5070) and is suitable for maps showing the continental United States.", "mapName": "Layers", "description": "
This cached tiled basemap is projected in NAD_1983_Contiguous_USA_Albers (WKID: 5070) and is suitable for maps showing the continental United States.<\/SPAN><\/P><\/DIV><\/DIV>",
"copyrightText": "",
"supportsDynamicLayers": false,
"layers": [
{
"id": 0,
"name": "USA_State_Fine",
"parentLayerId": -1,
"defaultVisibility": true,
"subLayerIds": null,
"minScale": 1274599,
"maxScale": 0,
"type": "Feature Layer",
"geometryType": "esriGeometryPolygon",
"supportsDynamicLegends": true
},
{
"id": 1,
"name": "USA_Counties_Fine",
"parentLayerId": -1,
"defaultVisibility": true,
"subLayerIds": null,
"minScale": 1274599,
"maxScale": 0,
"type": "Feature Layer",
"geometryType": "esriGeometryPolygon",
"supportsDynamicLegends": true
},
{
"id": 2,
"name": "Lakes",
"parentLayerId": -1,
"defaultVisibility": true,
"subLayerIds": null,
"minScale": 0,
"maxScale": 0,
"type": "Feature Layer",
"geometryType": "esriGeometryPolygon",
"supportsDynamicLegends": true
},
{
"id": 3,
"name": "USA_States_Generalized",
"parentLayerId": -1,
"defaultVisibility": true,
"subLayerIds": null,
"minScale": 9434312.210200928,
"maxScale": 1274599.478338365,
"type": "Feature Layer",
"geometryType": "esriGeometryPolygon",
"supportsDynamicLegends": true
},
{
"id": 4,
"name": "USA_Counties_Generalized",
"parentLayerId": -1,
"defaultVisibility": true,
"subLayerIds": null,
"minScale": 9434312.210200928,
"maxScale": 1274599.478338365,
"type": "Feature Layer",
"geometryType": "esriGeometryPolygon",
"supportsDynamicLegends": true
},
{
"id": 5,
"name": "World_Countries",
"parentLayerId": -1,
"defaultVisibility": true,
"subLayerIds": null,
"minScale": 0,
"maxScale": 4862211.144784422,
"type": "Feature Layer",
"geometryType": "esriGeometryPolygon",
"supportsDynamicLegends": true
},
{
"id": 6,
"name": "World_States_and_Provinces",
"parentLayerId": -1,
"defaultVisibility": true,
"subLayerIds": null,
"minScale": 0,
"maxScale": 4862211.144784422,
"type": "Feature Layer",
"geometryType": "esriGeometryPolygon",
"supportsDynamicLegends": true
},
{
"id": 7,
"name": "Map_Grid_30",
"parentLayerId": -1,
"defaultVisibility": true,
"subLayerIds": null,
"minScale": 0,
"maxScale": 0,
"type": "Feature Layer",
"geometryType": "esriGeometryPolygon",
"supportsDynamicLegends": true
}
],
"tables": [],
"spatialReference": {
"wkid": 5070,
"latestWkid": 5070,
"xyTolerance": 0.001,
"zTolerance": 0.001,
"mTolerance": 0.001,
"falseX": -1.8590996696015E7,
"falseY": -8085542.945870001,
"xyUnits": 2.4224631885325944E8,
"falseZ": -100000,
"zUnits": 10000,
"falseM": -100000,
"mUnits": 10000
},
"singleFusedMapCache": true,
"tileInfo": {
"rows": 256,
"cols": 256,
"dpi": 96,
"format": "PNG",
"compressionQuality": 0,
"origin": {
"x": -1.859107641951774E7,
"y": 2.909660976538281E7
},
"spatialReference": {
"wkid": 5070,
"latestWkid": 5070,
"xyTolerance": 0.001,
"zTolerance": 0.001,
"mTolerance": 0.001,
"falseX": -1.859107641951774E7,
"falseY": -8085543.07349924,
"xyUnits": 2.4224523237723875E8,
"falseZ": -100000,
"zUnits": 10000,
"falseM": -100000,
"mUnits": 10000
},
"lods": [
{
"level": 0,
"resolution": 16933.367200067736,
"scale": 64000000
},
{
"level": 1,
"resolution": 12700.025400050801,
"scale": 48000000
},
{
"level": 2,
"resolution": 8466.683600033868,
"scale": 32000000
},
{
"level": 3,
"resolution": 6350.012700025401,
"scale": 24000000
},
{
"level": 4,
"resolution": 4233.341800016934,
"scale": 16000000
},
{
"level": 5,
"resolution": 3175.0063500127003,
"scale": 12000000
},
{
"level": 6,
"resolution": 2116.670900008467,
"scale": 8000000
},
{
"level": 7,
"resolution": 1587.5031750063501,
"scale": 6000000
},
{
"level": 8,
"resolution": 1058.3354500042335,
"scale": 4000000
},
{
"level": 9,
"resolution": 264.5838625010584,
"scale": 1000000
}
]
},
"storageInfo": {
"storageFormat": "esriMapCacheStorageModeCompactV2",
"packetSize": 128
},
"initialExtent": {
"xmin": -2588945.7077042377,
"ymin": 19492.80953771132,
"xmax": 2478887.9588272646,
"ymax": 3369759.2445892384,
"spatialReference": {
"wkid": 5070,
"latestWkid": 5070,
"xyTolerance": 0.001,
"zTolerance": 0.001,
"mTolerance": 0.001,
"falseX": -1.8590996696015E7,
"falseY": -8085542.945870001,
"xyUnits": 2.4224631885325944E8,
"falseZ": -100000,
"zUnits": 10000,
"falseM": -100000,
"mUnits": 10000
}
},
"fullExtent": {
"xmin": -3551310.2353439294,
"ymin": -795993.0350332395,
"xmax": 3991600.990406148,
"ymax": 4036366.6296860916,
"spatialReference": {
"wkid": 5070,
"latestWkid": 5070,
"xyTolerance": 0.001,
"zTolerance": 0.001,
"mTolerance": 0.001,
"falseX": -1.8590996696015E7,
"falseY": -8085542.945870001,
"xyUnits": 2.4224631885325944E8,
"falseZ": -100000,
"zUnits": 10000,
"falseM": -100000,
"mUnits": 10000
}
},
"datesInUnknownTimezone": false,
"minScale": 64000000,
"maxScale": 4000000,
"units": "esriMeters",
"supportedImageFormatTypes": "PNG32,PNG24,PNG,JPG,DIB,TIFF,EMF,PS,PDF,GIF,SVG,SVGZ,BMP",
"documentInfo": {
"Title": "Light Grey Basemap",
"Author": "",
"Comments": " This cached tiled basemap is projected in NAD_1983_Contiguous_USA_Albers (WKID: 5070) and is suitable for maps showing the continental United States.<\/SPAN><\/P><\/DIV><\/DIV>",
"Subject": "A grey background layer without annotations.",
"Category": "",
"Version": "2.9.0",
"AntialiasingMode": "None",
"TextAntialiasingMode": "Force",
"Keywords": "basemap grey albers contiguous"
},
"supportsQueryDomains": true,
"capabilities": "Map",
"supportedQueryFormats": "JSON, geoJSON, PBF",
"exportTilesAllowed": false,
"referenceScale": 0.0,
"datumTransformations": [
{
"geoTransforms": [
{
"wkid": 108190,
"latestWkid": 108190,
"transformForward": true,
"name": "WGS_1984_(ITRF00)_To_NAD_1983"
}
]
},
{
"geoTransforms": [
{
"wkid": 108190,
"latestWkid": 108190,
"transformForward": false,
"name": "WGS_1984_(ITRF00)_To_NAD_1983"
}
]
}
],
"supportsDatumTransformation": true,
"archivingInfo": {"supportsHistoricMoment": false},
"supportsClipping": true,
"supportsSpatialFilter": true,
"supportsTimeRelation": true,
"supportsQueryDataElements": true,
"mapUnits": {"uwkid": 9001},
"maxSelectionCount": 2000,
"maxRecordCount": 1000,
"maxImageHeight": 2048,
"maxImageWidth": 2048,
"supportedExtensions": "",
"resampling": false
}