{
 "currentVersion": 11.5,
 "cimVersion": "3.5.0",
 "serviceDescription": "",
 "mapName": "Layers",
 "description": "",
 "copyrightText": "",
 "supportsDynamicLayers": false,
 "layers": [
  {
   "id": 0,
   "name": "State",
   "parentLayerId": -1,
   "defaultVisibility": true,
   "subLayerIds": null,
   "minScale": 0,
   "maxScale": 2375580,
   "type": "Feature Layer",
   "geometryType": "esriGeometryPolygon",
   "supportsDynamicLegends": true
  },
  {
   "id": 1,
   "name": "States_Detail",
   "parentLayerId": -1,
   "defaultVisibility": true,
   "subLayerIds": null,
   "minScale": 2375580,
   "maxScale": 0,
   "type": "Feature Layer",
   "geometryType": "esriGeometryPolygon",
   "supportsDynamicLegends": true
  },
  {
   "id": 2,
   "name": "County",
   "parentLayerId": -1,
   "defaultVisibility": true,
   "subLayerIds": null,
   "minScale": 0,
   "maxScale": 2375579.717521731,
   "type": "Feature Layer",
   "geometryType": "esriGeometryPolygon",
   "supportsDynamicLegends": true
  },
  {
   "id": 3,
   "name": "Counties_Detail",
   "parentLayerId": -1,
   "defaultVisibility": true,
   "subLayerIds": null,
   "minScale": 2375579.717521731,
   "maxScale": 0,
   "type": "Feature Layer",
   "geometryType": "esriGeometryPolygon",
   "supportsDynamicLegends": true
  }
 ],
 "tables": [],
 "spatialReference": {
  "wkid": 5070,
  "latestWkid": 5070,
  "xyTolerance": 0.001,
  "zTolerance": 0.001,
  "mTolerance": 0.001,
  "falseX": -16901100,
  "falseY": -6972200,
  "xyUnits": 2.6646784099085236E8,
  "falseZ": -100000,
  "zUnits": 10000,
  "falseM": -100000,
  "mUnits": 10000
 },
 "singleFusedMapCache": true,
 "tileInfo": {
  "rows": 256,
  "cols": 256,
  "dpi": 96,
  "format": "PNG",
  "compressionQuality": 0,
  "origin": {
   "x": -16901100,
   "y": 26830000
  },
  "spatialReference": {
   "wkid": 5070,
   "latestWkid": 5070,
   "xyTolerance": 0.001,
   "zTolerance": 0.001,
   "mTolerance": 0.001,
   "falseX": -16901100,
   "falseY": -6972200,
   "xyUnits": 2.6646784099085236E8,
   "falseZ": -100000,
   "zUnits": 10000,
   "falseM": -100000,
   "mUnits": 10000
  },
  "lods": [
   {
    "level": 0,
    "resolution": 16933.367200067736,
    "scale": 64000000
   },
   {
    "level": 1,
    "resolution": 12700.025400050801,
    "scale": 48000000
   },
   {
    "level": 2,
    "resolution": 8466.683600033868,
    "scale": 32000000
   },
   {
    "level": 3,
    "resolution": 6350.012700025401,
    "scale": 24000000
   },
   {
    "level": 4,
    "resolution": 4233.341800016934,
    "scale": 16000000
   },
   {
    "level": 5,
    "resolution": 3175.0063500127003,
    "scale": 12000000
   },
   {
    "level": 6,
    "resolution": 2116.670900008467,
    "scale": 8000000
   },
   {
    "level": 7,
    "resolution": 1587.5031750063501,
    "scale": 6000000
   },
   {
    "level": 8,
    "resolution": 1058.3354500042335,
    "scale": 4000000
   },
   {
    "level": 9,
    "resolution": 529.1677250021168,
    "scale": 2000000
   },
   {
    "level": 10,
    "resolution": 264.5838625010584,
    "scale": 1000000
   },
   {
    "level": 11,
    "resolution": 132.2919312505292,
    "scale": 500000
   }
  ]
 },
 "storageInfo": {
  "storageFormat": "esriMapCacheStorageModeCompactV2",
  "packetSize": 128
 },
 "initialExtent": {
  "xmin": -3180058.584059809,
  "ymin": -457759.8800194084,
  "xmax": 2880518.0539433793,
  "ymax": 3548793.5752474526,
  "spatialReference": {
   "wkid": 5070,
   "latestWkid": 5070,
   "xyTolerance": 0.001,
   "zTolerance": 0.001,
   "mTolerance": 0.001,
   "falseX": -16901100,
   "falseY": -6972200,
   "xyUnits": 2.6646784099085236E8,
   "falseZ": -100000,
   "zUnits": 10000,
   "falseM": -100000,
   "mUnits": 10000
  }
 },
 "fullExtent": {
  "xmin": -2557749.36191052,
  "ymin": -81542.94879404828,
  "xmax": 2258208.8317940943,
  "ymax": 3172576.6440220904,
  "spatialReference": {
   "wkid": 5070,
   "latestWkid": 5070,
   "xyTolerance": 0.001,
   "zTolerance": 0.001,
   "mTolerance": 0.001,
   "falseX": -16901100,
   "falseY": -6972200,
   "xyUnits": 2.6646784099085236E8,
   "falseZ": -100000,
   "zUnits": 10000,
   "falseM": -100000,
   "mUnits": 10000
  }
 },
 "datesInUnknownTimezone": false,
 "minScale": 64000000,
 "maxScale": 500000,
 "units": "esriMeters",
 "supportedImageFormatTypes": "PNG32,PNG24,PNG,JPG,DIB,TIFF,EMF,PS,PDF,GIF,SVG,SVGZ,BMP",
 "documentInfo": {
  "Title": "Tobacco_Update_2022.aprx",
  "Author": "",
  "Comments": "",
  "Subject": "A cached background service showing county and state boundary lines within the United States.",
  "Category": "",
  "Version": "2.9.0",
  "AntialiasingMode": "None",
  "TextAntialiasingMode": "Force",
  "Keywords": ""
 },
 "supportsQueryDomains": true,
 "capabilities": "Map,Query,Data",
 "supportedQueryFormats": "JSON, geoJSON, PBF",
 "exportTilesAllowed": false,
 "referenceScale": 0.0,
 "supportsDatumTransformation": true,
 "archivingInfo": {
  "supportsHistoricMoment": false
 },
 "supportsClipping": true,
 "supportsSpatialFilter": true,
 "supportsTimeRelation": true,
 "supportsQueryDataElements": true,
 "mapUnits": {
  "uwkid": 9001
 },
 "maxSelectionCount": 2000,
 "maxRecordCount": 1000,
 "maxImageHeight": 4096,
 "maxImageWidth": 4096,
 "supportedExtensions": "",
 "resampling": false
}
